Workbook
Name tab_1ton: 原始資料_操作當期累計!$C$14
Name tab_1ton: #REF!

Sheet 結果表
A1: 2026年1至2月 我對東協11國進出口統計
A2: 單位：百萬美元；%
A3: 國家 | B3: 貿易總值 | D3: 出口 | F3: 進口 | H3: 出入超
B4: 金額 | C4: 年增率 | D4: 金額 | E4: 年增率 | F4: 金額 | G4: 年增率 | H4: 金額 | I4: 年增率
A5: 東協10國 | B5: =原始資料_操作當期累計!C12 -> 35128.664 | C5: =原始資料_操作當期累計!D12 -> 47.135537 | D5: =原始資料_操作當期累計!E12 -> 23575.843 | E5: =原始資料_操作當期累計!F12 -> 47.59931 | F5: =原始資料_操作當期累計!G12 -> 11552.821 | G5: =原始資料_操作當期累計!H12 -> 46.198101 | H5: =原始資料_操作當期累計!I12 -> 12023.022 | I5: =原始資料_操作當期累計!J12 -> 48.97126
A6: 新加坡 | B6: =原始資料_操作當期累計!C13 -> 12206.923 | C6: =原始資料_操作當期累計!D13 -> 55.553209 | D6: =原始資料_操作當期累計!E13 -> 9564.689 | E6: =原始資料_操作當期累計!F13 -> 56.01865 | F6: =原始資料_操作當期累計!G13 -> 2642.234 | G6: =原始資料_操作當期累計!H13 -> 53.891323 | H6: =原始資料_操作當期累計!I13 -> 6922.455 | I6: =原始資料_操作當期累計!J13 -> 56.846221
A7: 馬來西亞 | B7: =原始資料_操作當期累計!C14 -> 8463.09 | C7: =原始資料_操作當期累計!D14 -> 24.907442 | D7: =原始資料_操作當期累計!E14 -> 5327.855 | E7: =原始資料_操作當期累計!F14 -> 15.380301 | F7: =原始資料_操作當期累計!G14 -> 3135.235 | G7: =原始資料_操作當期累計!H14 -> 45.294929 | H7: =原始資料_操作當期累計!I14 -> 2192.62 | I7: =原始資料_操作當期累計!J14 -> -10.86204
A8: 印尼 | B8: =原始資料_操作當期累計!C15 -> 2548.348 | C8: =原始資料_操作當期累計!D15 -> 58.314639 | D8: =原始資料_操作當期累計!E15 -> 1737.138 | E8: =原始資料_操作當期累計!F15 -> 244.0102 | F8: =原始資料_操作當期累計!G15 -> 811.21 | G8: =原始資料_操作當期累計!H15 -> -26.567793 | H8: =原始資料_操作當期累計!I15 -> 925.928 | I8: =原始資料_操作當期累計!J15 -> –
A9: 越南 | B9: =原始資料_操作當期累計!C16 -> 6828.117 | C9: =原始資料_操作當期累計!D16 -> 69.204828 | D9: =原始資料_操作當期累計!E16 -> 3489.526 | E9: =原始資料_操作當期累計!F16 -> 37.820085 | F9: =原始資料_操作當期累計!G16 -> 3338.591 | G9: =原始資料_操作當期累計!H16 -> 122.05874 | H9: =原始資料_操作當期累計!I16 -> 150.935 | I9: =原始資料_操作當期累計!J16 -> -85.324331
A10: 泰國 | B10: =原始資料_操作當期累計!C17 -> 3737.126 | C10: =原始資料_操作當期累計!D17 -> 55.833835 | D10: =原始資料_操作當期累計!E17 -> 2649.9 | E10: =原始資料_操作當期累計!F17 -> 82.408544 | F10: =原始資料_操作當期累計!G17 -> 1087.226 | G10: =原始資料_操作當期累計!H17 -> 14.99926 | H10: =原始資料_操作當期累計!I17 -> 1562.674 | I10: =原始資料_操作當期累計!J17 -> 208.0326
A11: 菲律賓 | B11: =原始資料_操作當期累計!C18 -> 1127.549 | C11: =原始資料_操作當期累計!D18 -> 13.926405 | D11: =原始資料_操作當期累計!E18 -> 680.773 | E11: =原始資料_操作當期累計!F18 -> 10.398784 | F11: =原始資料_操作當期累計!G18 -> 446.776 | G11: =原始資料_操作當期累計!H18 -> 19.757256 | H11: =原始資料_操作當期累計!I18 -> 233.997 | I11: =原始資料_操作當期累計!J18 -> -3.9346254
A12: 柬埔寨 | B12: =原始資料_操作當期累計!C19 -> 119.774 | C12: =原始資料_操作當期累計!D19 -> 2.8208914 | D12: =原始資料_操作當期累計!E19 -> 92.279 | E12: =原始資料_操作當期累計!F19 -> 6.384524 | F12: =原始資料_操作當期累計!G19 -> 27.495 | G12: =原始資料_操作當期累計!H19 -> -7.5705113 | H12: =原始資料_操作當期累計!I19 -> 64.784 | I12: =原始資料_操作當期累計!J19 -> 13.668105
A13: 緬甸 | B13: =原始資料_操作當期累計!C20 -> 25.969 | C13: =原始資料_操作當期累計!D20 -> -10.368274 | D13: =原始資料_操作當期累計!E20 -> 15.931 | E13: =原始資料_操作當期累計!F20 -> -4.272323 | F13: =原始資料_操作當期累計!G20 -> 10.038 | G13: =原始資料_操作當期累計!H20 -> -18.59541 | H13: =原始資料_操作當期累計!I20 -> 5.893 | I13: =原始資料_操作當期累計!J20 -> 36.696822
A14: 汶萊 | B14: =原始資料_操作當期累計!C21 -> 58.971 | C14: =原始資料_操作當期累計!D21 -> 2.7100932 | D14: =原始資料_操作當期累計!E21 -> 9.406 | E14: =原始資料_操作當期累計!F21 -> 433.21995 | F14: =原始資料_操作當期累計!G21 -> 49.565 | G14: =原始資料_操作當期累計!H21 -> -10.936012 | H14: =原始資料_操作當期累計!I21 -> -40.159 | I14: =原始資料_操作當期累計!J21 -> -25.475532
A15: 寮國 | B15: =原始資料_操作當期累計!C22 -> 6.081 | C15: =原始資料_操作當期累計!D22 -> -62.677223 | D15: =原始資料_操作當期累計!E22 -> 1.632 | E15: =原始資料_操作當期累計!F22 -> -87.737621 | F15: =原始資料_操作當期累計!G22 -> 4.449 | G15: =原始資料_操作當期累計!H22 -> 49.095174 | H15: =原始資料_操作當期累計!I22 -> -2.817 | I15: =原始資料_操作當期累計!J22 -> –
A16: 東帝汶 | B16: =原始資料_操作當期累計!C23 -> 6.716 | C16: =原始資料_操作當期累計!D23 -> -16.881188 | D16: =原始資料_操作當期累計!E23 -> 6.714 | E16: =原始資料_操作當期累計!F23 -> -15.419501 | F16: =原始資料_操作當期累計!G23 -> 0.002 | G16: =原始資料_操作當期累計!H23 -> -98.591549 | H16: =原始資料_操作當期累計!I23 -> 6.712 | I16: =原始資料_操作當期累計!J23 -> -13.904566
A17: 資料來源：我國海關進出口統計 | I17: 製表日：2026.03.26
A18: 說明：為與國際規範接軌、貼近貿易實況及利於跨國比較資料交換，財政部於105/2/16公布105年1月份我國海關進出口統計起，將統計方式改採新制(一般貿易制度)，並將新制資料追溯(推估)至90年，本表已配合同步修正。出入超年增率若為「–」，表示比較期資料兩期各為出超與入超。
A19: 註：因東帝汶自2025年10月起成為東協會員國，自2026年資料更新為東協11國
A20: 2025年 我對東協10國進出口統計
A21: 單位：百萬美元；%
A22: 國家 | B22: 貿易總值 | D22: 出口 | F22: 進口 | H22: 出入超
B23: 金額 | C23: 年增率 | D23: 金額 | E23: 年增率 | F23: 金額 | G23: 年增率 | H23: 金額 | I23: 年增率
A24: 東協10國 | B24: 181543.82 | C24: 32.535357 | D24: 118981.5 | E24: 35.614937 | F24: 62562.325 | G24: 27.048544 | H24: 56419.174 | I24: 46.573945
A25: 新加坡 | B25: 53439.495 | C25: 23.015015 | D25: 40404.209 | E25: 19.746404 | F25: 13035.286 | G25: 34.384932 | H25: 27368.923 | I25: 13.84024
A26: 馬來西亞 | B26: 56358.88 | C26: 63.365564 | D26: 37698.125 | E26: 89.551936 | F26: 18660.755 | G26: 27.720574 | H26: 19037.37 | I26: 260.73327
A27: 印尼 | B27: 11263.881 | C27: 4.7553322 | D27: 4714.383 | E27: 53.871057 | F27: 6549.498 | G27: -14.816664 | H27: -1835.115 | I27: -60.320594
A28: 越南 | B28: 32503.091 | C28: 46.335036 | D28: 18167.592 | E28: 27.268738 | F28: 14335.499 | G28: 80.628902 | H28: 3832.093 | I28: -39.543037
A29: 泰國 | B29: 19372.009 | C29: 7.307557 | D29: 12783.468 | E29: 8.1531714 | F29: 6588.541 | G29: 5.7040018 | H29: 6194.927 | I29: 10.885644
A30: 菲律賓 | B30: 7163.628 | C30: 6.7430258 | D30: 4480.745 | E30: 5.4619501 | F30: 2682.883 | G30: 8.9534128 | H30: 1797.862 | I30: 0.6488937
A31: 柬埔寨 | B31: 739.112 | C31: 2.0559994 | D31: 567.181 | E31: 2.9848822 | F31: 171.931 | G31: -0.89289832 | H31: 395.25 | I31: 4.7680392
A32: 緬甸 | B32: 178.829 | C32: 6.5085973 | D32: 105.136 | E32: 9.9933043 | F32: 73.693 | G32: 1.9027338 | H32: 31.443 | I32: 35.139898
A33: 汶萊 | B33: 455.053 | C33: 28.612531 | D33: 14.692 | E33: 1.8156618 | F33: 440.361 | G33: 29.751876 | H33: -425.669 | I33: 30.992408
A34: 寮國 | B34: 69.846 | C34: 9.5194042 | D34: 45.968 | E34: 23.413966 | F34: 23.878 | G34: -9.9894451 | H34: 22.09 | I34: 106.08266
A35: 資料來源：我國海關進出口統計 | I35: 製表日：2026.01.22
A36: 2024年 我對東協10國進出口統計
A37: 單位：百萬美元；%
A38: 國家 | B38: 貿易總值 | D38: 出口 | F38: 進口 | H38: 出入超
B39: 金額 | C39: 年增率 | D39: 金額 | E39: 年增率 | F39: 金額 | G39: 年增率 | H39: 金額 | I39: 年增率
A40: 東協10國 | B40: 136977.66 | C40: 16.769238 | D40: 87734.804 | E40: 15.024523 | F40: 49242.851 | G40: 20.012556 | H40: 38491.953 | I40: 9.2173148
...

Sheet 原始資料_操作當期累計
A1: source : | B1: http://web02.mof.gov.tw/njswww/WebMain.aspx?sys=100&funid=defjsptgl | K1: 洲別∕國別貿易值 | N1: 千美元
A2: 114.5.20 | B2: 下載 | C2: 1至本月 | D2: 列:統計期/統計項 行:複分類
A3: 上年同期
C4: 新加坡/ 出口 | D4: 新加坡/ 進口 | E4: 馬來西亞/ 出口 | F4: 馬來西亞/ 進口 | G4: 印尼/ 出口 | H4: 印尼/ 進口 | I4: 越南/ 出口 | J4: 越南/ 進口 | K4: 泰國/ 出口 | L4: 泰國/ 進口 | M4: 菲律賓/ 出口 | N4: 菲律賓/ 進口 | O4: 柬埔寨/ 出口 | P4: 柬埔寨/ 進口 | Q4: 緬甸/ 出口 | R4: 緬甸/ 進口 | S4: 汶萊/ 出口 | T4: 汶萊/ 進口 | U4: 寮國/ 出口 | V4: 寮國/ 進口 | W4: 東帝汶/ 出口 | X4: 東帝汶/ 進口
A5: 114年1月至2月 | B5: 按美元計算(千美元) | C5: 6130478 | D5: 1716948 | E5: 4617647 | F5: 2157842 | G5: 504967 | H5: 1104706 | I5: 2531943 | J5: 1503472 | K5: 1452728 | L5: 945420 | M5: 616649 | N5: 373068 | O5: 86741 | P5: 29747 | Q5: 16642 | R5: 12331 | S5: 1764 | T5: 55651 | U5: 13309 | V5: 2984 | W5: 7938 | X5: 142
A6: 當期
C7: 新加坡/ 出口 | D7: 新加坡/ 進口 | E7: 馬來西亞/ 出口 | F7: 馬來西亞/ 進口 | G7: 印尼/ 出口 | H7: 印尼/ 進口 | I7: 越南/ 出口 | J7: 越南/ 進口 | K7: 泰國/ 出口 | L7: 泰國/ 進口 | M7: 菲律賓/ 出口 | N7: 菲律賓/ 進口 | O7: 柬埔寨/ 出口 | P7: 柬埔寨/ 進口 | Q7: 緬甸/ 出口 | R7: 緬甸/ 進口 | S7: 汶萊/ 出口 | T7: 汶萊/ 進口 | U7: 寮國/ 出口 | V7: 寮國/ 進口 | W7: 東帝汶/ 出口 | X7: 東帝汶/ 進口
A8: 115年1月至2月 | B8: 按美元計算(千美元) | C8: 9564689 | D8: 2642234 | E8: 5327855 | F8: 3135235 | G8: 1737138 | H8: 811210 | I8: 3489526 | J8: 3338591 | K8: 2649900 | L8: 1087226 | M8: 680773 | N8: 446776 | O8: 92279 | P8: 27495 | Q8: 15931 | R8: 10038 | S8: 9406 | T8: 49565 | U8: 1632 | V8: 4449 | W8: 6714 | X8: 2
A11: =A8 -> 115年1月至2月 | B11: 當期 | C11: 貿易 總額 | D11: 貿易總額 YOY | E11: 出口 金額 | F11: 出口 YOY | G11: 進口 金額 | H11: 進口 YOY | I11: 出入超 金額 | J11: 出入超 YOY | L11: 上年 同期 | M11: 貿易 總額 | N11: 出口 金額 | O11: 進口 金額 | P11: 出入超 金額
B12: 東協10國 | C12: =E12+G12 -> 35128.664 | D12: =(C12/M12-1)*100 -> 47.135537 | E12: =SUM(E13:E23) -> 23575.843 | F12: =(E12/N12-1)*100 -> 47.59931 | G12: =SUM(G13:G23) -> 11552.821 | H12: =(G12/O12-1)*100 -> 46.198101 | I12: =E12-G12 -> 12023.022 | J12: =IF((I12*P12)>0,(I12/P12-1)*100,"–") -> 48.97126 | L12: =B12 -> 東協10國 | M12: =N12+O12 -> 23875.037 | N12: =SUM(N13:N22) -> 15972.868 | O12: =SUM(O13:O22) -> 7902.169 | P12: =N12-O12 -> 8070.699
B13: 新加坡 | C13: =E13+G13 -> 12206.923 | D13: =(C13/M13-1)*100 -> 55.553209 | E13: =C8/1000 -> 9564.689 | F13: =(E13/N13-1)*100 -> 56.01865 | G13: =D8/1000 -> 2642.234 | H13: =(G13/O13-1)*100 -> 53.891323 | I13: =E13-G13 -> 6922.455 | J13: =IF((I13*P13)>0,(I13/P13-1)*100,"–") -> 56.846221 | L13: =B13 -> 新加坡 | M13: =N13+O13 -> 7847.426 | N13: =C5/1000 -> 6130.478 | O13: =D5/1000 -> 1716.948 | P13: =N13-O13 -> 4413.53
B14: 馬來西亞 | C14: =E14+G14 -> 8463.09 | D14: =(C14/M14-1)*100 -> 24.907442 | E14: =E8/1000 -> 5327.855 | F14: =(E14/N14-1)*100 -> 15.380301 | G14: =F8/1000 -> 3135.235 | H14: =(G14/O14-1)*100 -> 45.294929 | I14: =E14-G14 -> 2192.62 | J14: =IF((I14*P14)>0,(I14/P14-1)*100,"–") -> -10.86204 | L14: =B14 -> 馬來西亞 | M14: =N14+O14 -> 6775.489 | N14: =E5/1000 -> 4617.647 | O14: =F5/1000 -> 2157.842 | P14: =N14-O14 -> 2459.805
B15: 印尼 | C15: =E15+G15 -> 2548.348 | D15: =(C15/M15-1)*100 -> 58.314639 | E15: =G8/1000 -> 1737.138 | F15: =(E15/N15-1)*100 -> 244.0102 | G15: =H8/1000 -> 811.21 | H15: =(G15/O15-1)*100 -> -26.567793 | I15: =E15-G15 -> 925.928 | J15: =IF((I15*P15)>0,(I15/P15-1)*100,"–") -> – | L15: =B15 -> 印尼 | M15: =N15+O15 -> 1609.673 | N15: =G5/1000 -> 504.967 | O15: =H5/1000 -> 1104.706 | P15: =N15-O15 -> -599.739
B16: 越南 | C16: =E16+G16 -> 6828.117 | D16: =(C16/M16-1)*100 -> 69.204828 | E16: =I8/1000 -> 3489.526 | F16: =(E16/N16-1)*100 -> 37.820085 | G16: =J8/1000 -> 3338.591 | H16: =(G16/O16-1)*100 -> 122.05874 | I16: =E16-G16 -> 150.935 | J16: =IF((I16*P16)>0,(I16/P16-1)*100,"–") -> -85.324331 | L16: =B16 -> 越南 | M16: =N16+O16 -> 4035.415 | N16: =I5/1000 -> 2531.943 | O16: =J5/1000 -> 1503.472 | P16: =N16-O16 -> 1028.471
B17: 泰國 | C17: =E17+G17 -> 3737.126 | D17: =(C17/M17-1)*100 -> 55.833835 | E17: =K8/1000 -> 2649.9 | F17: =(E17/N17-1)*100 -> 82.408544 | G17: =L8/1000 -> 1087.226 | H17: =(G17/O17-1)*100 -> 14.99926 | I17: =E17-G17 -> 1562.674 | J17: =IF((I17*P17)>0,(I17/P17-1)*100,"–") -> 208.0326 | L17: =B17 -> 泰國 | M17: =N17+O17 -> 2398.148 | N17: =K5/1000 -> 1452.728 | O17: =L5/1000 -> 945.42 | P17: =N17-O17 -> 507.308
B18: 菲律賓 | C18: =E18+G18 -> 1127.549 | D18: =(C18/M18-1)*100 -> 13.926405 | E18: =M8/1000 -> 680.773 | F18: =(E18/N18-1)*100 -> 10.398784 | G18: =N8/1000 -> 446.776 | H18: =(G18/O18-1)*100 -> 19.757256 | I18: =E18-G18 -> 233.997 | J18: =IF((I18*P18)>0,(I18/P18-1)*100,"–") -> -3.9346254 | L18: =B18 -> 菲律賓 | M18: =N18+O18 -> 989.717 | N18: =M5/1000 -> 616.649 | O18: =N5/1000 -> 373.068 | P18: =N18-O18 -> 243.581
B19: 柬埔寨 | C19: =E19+G19 -> 119.774 | D19: =(C19/M19-1)*100 -> 2.8208914 | E19: =O8/1000 -> 92.279 | F19: =(E19/N19-1)*100 -> 6.384524 | G19: =P8/1000 -> 27.495 | H19: =(G19/O19-1)*100 -> -7.5705113 | I19: =E19-G19 -> 64.784 | J19: =IF((I19*P19)>0,(I19/P19-1)*100,"–") -> 13.668105 | L19: =B19 -> 柬埔寨 | M19: =N19+O19 -> 116.488 | N19: =O5/1000 -> 86.741 | O19: =P5/1000 -> 29.747 | P19: =N19-O19 -> 56.994
B20: 緬甸 | C20: =E20+G20 -> 25.969 | D20: =(C20/M20-1)*100 -> -10.368274 | E20: =Q8/1000 -> 15.931 | F20: =(E20/N20-1)*100 -> -4.272323 | G20: =R8/1000 -> 10.038 | H20: =(G20/O20-1)*100 -> -18.59541 | I20: =E20-G20 -> 5.893 | J20: =IF((I20*P20)>0,(I20/P20-1)*100,"–") -> 36.696822 | L20: =B20 -> 緬甸 | M20: =N20+O20 -> 28.973 | N20: =Q5/1000 -> 16.642 | O20: =R5/1000 -> 12.331 | P20: =N20-O20 -> 4.311
B21: 汶萊 | C21: =E21+G21 -> 58.971 | D21: =(C21/M21-1)*100 -> 2.7100932 | E21: =S8/1000 -> 9.406 | F21: =(E21/N21-1)*100 -> 433.21995 | G21: =T8/1000 -> 49.565 | H21: =(G21/O21-1)*100 -> -10.936012 | I21: =E21-G21 -> -40.159 | J21: =IF((I21*P21)>0,(I21/P21-1)*100,"–") -> -25.475532 | L21: =B21 -> 汶萊 | M21: =N21+O21 -> 57.415 | N21: =S5/1000 -> 1.764 | O21: =T5/1000 -> 55.651 | P21: =N21-O21 -> -53.887
B22: 寮國 | C22: =E22+G22 -> 6.081 | D22: =(C22/M22-1)*100 -> -62.677223 | E22: =U8/1000 -> 1.632 | F22: =(E22/N22-1)*100 -> -87.737621 | G22: =V8/1000 -> 4.449 | H22: =(G22/O22-1)*100 -> 49.095174 | I22: =E22-G22 -> -2.817 | J22: =IF((I22*P22)>0,(I22/P22-1)*100,"–") -> – | L22: =B22 -> 寮國 | M22: =N22+O22 -> 16.293 | N22: =U5/1000 -> 13.309 | O22: =V5/1000 -> 2.984 | P22: =N22-O22 -> 10.325
B23: 東帝汶 | C23: =E23+G23 -> 6.716 | D23: =(C23/M23-1)*100 -> -16.881188 | E23: =W8/1000 -> 6.714 | F23: =(E23/N23-1)*100 -> -15.419501 | G23: =X8/1000 -> 0.002 | H23: =(G23/O23-1)*100 -> -98.591549 | I23: =E23-G23 -> 6.712 | J23: =IF((I23*P23)>0,(I23/P23-1)*100,"–") -> -13.904566 | L23: =B23 -> 東帝汶 | M23: =N23+O23 -> 8.08 | N23: =W5/1000 -> 7.938 | O23: =X5/1000 -> 0.142 | P23: =N23-O23 -> 7.796
A26: 統計期 | B26: 幣別 | C26: 新加坡/ 出口 | D26: 新加坡/ 進口 | E26: 馬來西亞/ 出口 | F26: 馬來西亞/ 進口 | G26: 印尼/ 出口 | H26: 印尼/ 進口 | I26: 越南/ 出口 | J26: 越南/ 進口 | K26: 泰國/ 出口 | L26: 泰國/ 進口 | M26: 菲律賓/ 出口 | N26: 菲律賓/ 進口 | O26: 柬埔寨/ 出口 | P26: 柬埔寨/ 進口 | Q26: 緬甸/ 出口 | R26: 緬甸/ 進口 | S26: 汶萊/ 出口 | T26: 汶萊/ 進口 | U26: 寮國/ 出口 | V26: 寮國/ 進口 | W26: 東帝汶/ 出口 | X26: 東帝汶/ 進口
A27: 114年1月至2月 | B27: 按美元計算(千美元) | C27: 6130478 | D27: 1716948 | E27: 4617647 | F27: 2157842 | G27: 504967 | H27: 1104706 | I27: 2531943 | J27: 1503472 | K27: 1452728 | L27: 945420 | M27: 616649 | N27: 373068 | O27: 86741 | P27: 29747 | Q27: 16642 | R27: 12331 | S27: 1764 | T27: 55651 | U27: 13309 | V27: 2984 | W27: 7938 | X27: 142
A28: 115年1月至2月 | B28: 按美元計算(千美元) | C28: 9564689 | D28: 2642234 | E28: 5327855 | F28: 3135235 | G28: 1737138 | H28: 811210 | I28: 3489526 | J28: 3338591 | K28: 2649900 | L28: 1087226 | M28: 680773 | N28: 446776 | O28: 92279 | P28: 27495 | Q28: 15931 | R28: 10038 | S28: 9406 | T28: 49565 | U28: 1632 | V28: 4449 | W28: 6714 | X28: 2

Sheet 原始資料_94年至112年歷年出進口
A1: 112.10.20 下載111年更新版 | E1: 千美元 | Y1: =W3 -> 113年 | Z1: 貿易總值 | AB1: 出口 | AD1: 進口 | AF1: 出入超 | AI1: 產生時間:112/10/20 08:42:17 | AJ1: 洲別／國別貿易值
A2: 出口 | V2: 統計項/複分類 統計期 | W2: 統計項/複分類 統計期 | Z2: 金額 | AA2: 年增率 | AB2: 金額 | AC2: 年增率 | AD2: 金額 | AE2: 年增率 | AF2: 金額 | AG2: 年增率
D3: 94年 | E3: 95年 | F3: 96年 | G3: 97年 | H3: 98年 | I3: 99年 | J3: 100年 | K3: 101年 | L3: 102年 | M3: 103年 | N3: 104年 | O3: 105年 | P3: 106年 | Q3: 107年 | R3: 108年 | S3: 109年 | T3: 110年 | U3: 111年 | V3: 112年 | W3: 113年 | Y3: 東協10國 | Z3: =SUM(Z4:Z13) -> 136977.66 | AA3: =(Z3/Z18-1)*100 -> 16.769238 | AB3: =SUM(AB4:AB13) -> 87734.804 | AC3: =(AB3/AB18-1)*100 -> 15.024523 | AD3: =SUM(AD4:AD13) -> 49242.851 | AE3: =(AD3/AD18-1)*100 -> 20.012556 | AF3: =SUM(AF4:AF13) -> 38491.953 | AG3: =IF((AF3*AF18)>0,(AF3/AF18-1)*100,"–") -> 9.2173148 | AK3: 110年 | AL3: 111年
B4: 按美元計算(千美元) | C4: 新加坡 / 出口 | D4: 8104189 | E4: 9378650 | F4: 10613104 | G4: 11777382 | H4: 8698501 | I4: 12198128 | J4: 16978012 | K4: 20198583 | L4: 19609087 | M4: 20678284 | N4: 17396074 | O4: 16147227 | P4: 17619613 | Q4: 17324072 | R4: 18183980 | S4: 19083955 | T4: 25718674 | U4: 29522660 | V4: 29738313 | W4: 33741480 | Y4: 新加坡 | Z4: =AB4+AD4 -> 43441.441 | AA4: =(Z4/Z19-1)*100 -> 10.643326 | AB4: =W4/1000 -> 33741.48 | AC4: =(AB4/AB19-1)*100 -> 13.461312 | AD4: =W19/1000 -> 9699.961 | AE4: =(AD4/AD19-1)*100 -> 1.844538 | AF4: =AB4-AD4 -> 24041.519 | AG4: =IF((AF4*AF19)>0,(AF4/AF19-1)*100,"–") -> 18.934808 | AI4: 按美元計算(千美元) | AJ4: 新加坡/ 出口 | AK4: 25718674 | AL4: 29522660
C5: 馬來西亞 / 出口 | D5: 4309863 | E5: 4979048 | F5: 5421303 | G5: 5541843 | H5: 4082371 | I5: 5974549 | J5: 6923594 | K5: 6587785 | L5: 8243300 | M5: 8670203 | N5: 7196851 | O5: 7814116 | P5: 10368478 | Q5: 10601675 | R5: 9399840 | S5: 9458244 | T5: 13327838 | U5: 17013703 | V5: 15165841 | W5: 19888019 | Y5: 馬來西亞 | Z5: =AB5+AD5 -> 34498.629 | AA5: =(Z5/Z20-1)*100 -> 38.80487 | AB5: =W5/1000 -> 19888.019 | AC5: =(AB5/AB20-1)*100 -> 31.136935 | AD5: =W20/1000 -> 14610.61 | AE5: =(AD5/AD20-1)*100 -> 50.808194 | AF5: =AB5-AD5 -> 5277.409 | AG5: =IF((AF5*AF20)>0,(AF5/AF20-1)*100,"–") -> -3.6553191 | AJ5: 馬來西亞/ 出口 | AK5: 13327838 | AL5: 17013703
C6: 印尼 / 出口 | D6: 2377687 | E6: 2525924 | F6: 2944432 | G6: 3595184 | H6: 3242325 | I6: 4536294 | J6: 4875186 | K6: 5244446 | L6: 5203416 | M6: 3877398 | N6: 3105979 | O6: 2746257 | P6: 3193161 | Q6: 3329164 | R6: 2921604 | S6: 2276826 | T6: 3069876 | U6: 3214730 | V6: 3009964 | W6: 3063853 | Y6: 印尼 | Z6: =AB6+AD6 -> 10752.561 | AA6: =(Z6/Z21-1)*100 -> 3.4032134 | AB6: =W6/1000 -> 3063.853 | AC6: =(AB6/AB21-1)*100 -> 1.7903536 | AD6: =W21/1000 -> 7688.708 | AE6: =(AD6/AD21-1)*100 -> 4.0602498 | AF6: =AB6-AD6 -> -4624.855 | AG6: =IF((AF6*AF21)>0,(AF6/AF21-1)*100,"–") -> 5.6205844 | AJ6: 印尼/ 出口 | AK6: 3069876 | AL6: 3214730
C7: 越南 / 出口 | D7: 4136208 | E7: 4918488 | F7: 6901329 | G7: 7983915 | H7: 6016430 | I7: 7585609 | J7: 9205773 | K7: 8557048 | L7: 9018544 | M7: 10104121 | N7: 9675233 | O7: 9511294 | P7: 10456687 | Q7: 10770602 | R7: 10771752 | S7: 10521227 | T7: 13966601 | U7: 14574219 | V7: 11725257 | W7: 14274984 | Y7: 越南 | Z7: =AB7+AD7 -> 22211.421 | AA7: =(Z7/Z22-1)*100 -> 24.206603 | AB7: =W7/1000 -> 14274.984 | AC7: =(AB7/AB22-1)*100 -> 21.745596 | AD7: =W22/1000 -> 7936.437 | AE7: =(AD7/AD22-1)*100 -> 28.893001 | AF7: =AB7-AD7 -> 6338.547 | AG7: =IF((AF7*AF22)>0,(AF7/AF22-1)*100,"–") -> 13.841444 | AJ7: 越南/ 出口 | AK7: 13966601 | AL7: 14574219
C8: 泰國 / 出口 | D8: 3871961 | E8: 4632717 | F8: 5262071 | G8: 4975330 | H8: 3873357 | I8: 5355081 | J8: 6214005 | K8: 6665294 | L8: 6431935 | M8: 6193998 | N8: 5769926 | O8: 5490290 | P8: 6381470 | Q8: 6167705 | R8: 5517710 | S8: 5289108 | T8: 7023744 | U8: 7549522 | V8: 10858627 | W8: 11819781 | Y8: 泰國 | Z8: =AB8+AD8 -> 18052.791 | AA8: =(Z8/Z23-1)*100 -> 11.163067 | AB8: =W8/1000 -> 11819.781 | AC8: =(AB8/AB23-1)*100 -> 8.8515242 | AD8: =W23/1000 -> 6233.01 | AE8: =(AD8/AD23-1)*100 -> 15.82741 | AF8: =AB8-AD8 -> 5586.771 | AG8: =IF((AF8*AF23)>0,(AF8/AF23-1)*100,"–") -> 1.9979603 | AJ8: 泰國/ 出口 | AK8: 7023744 | AL8: 7549522
C9: 菲律賓 / 出口 | D9: 4351158 | E9: 4516470 | F9: 4957745 | G9: 4820816 | H9: 4456782 | I9: 6034825 | J9: 7053466 | K9: 8945191 | L9: 9820662 | M9: 9614527 | N9: 7513737 | O9: 8659120 | P9: 9592794 | Q9: 8942334 | R9: 6156565 | S9: 5646009 | T9: 6073164 | U9: 7639749 | V9: 5062215 | W9: 4248684 | Y9: 菲律賓 | Z9: =AB9+AD9 -> 6711.097 | AA9: =(Z9/Z24-1)*100 -> -9.4300437 | AB9: =W9/1000 -> 4248.684 | AC9: =(AB9/AB24-1)*100 -> -16.070653 | AD9: =W24/1000 -> 2462.413 | AE9: =(AD9/AD24-1)*100 -> 4.8891352 | AF9: =AB9-AD9 -> 1786.271 | AG9: =IF((AF9*AF24)>0,(AF9/AF24-1)*100,"–") -> -34.197174 | AJ9: 菲律賓/ 出口 | AK9: 6073164 | AL9: 7639749
C10: 柬埔寨 / 出口 | D10: 332458 | E10: 458061 | F10: 428682 | G10: 414000 | H10: 323660 | I10: 467949 | J10: 633158 | K10: 654069 | L10: 672895 | M10: 694659 | N10: 682991 | O10: 650298 | P10: 649401 | Q10: 700265 | R10: 719191 | S10: 669935 | T10: 856909 | U10: 868300 | V10: 562946 | W10: 550742 | Y10: 柬埔寨 | Z10: =AB10+AD10 -> 724.222 | AA10: =(Z10/Z25-1)*100 -> -0.85520399 | AB10: =W10/1000 -> 550.742 | AC10: =(AB10/AB25-1)*100 -> -2.1678811 | AD10: =W25/1000 -> 173.48 | AE10: =(AD10/AD25-1)*100 -> 3.5559296 | AF10: =AB10-AD10 -> 377.262 | AG10: =IF((AF10*AF25)>0,(AF10/AF25-1)*100,"–") -> -4.5928032 | AJ10: 柬埔寨/ 出口 | AK10: 856909 | AL10: 868300
C11: 緬甸 / 出口 | D11: 80062 | E11: 68655 | F11: 72023 | G11: 97545 | H11: 83346 | I11: 109285 | J11: 137438 | K11: 149874 | L11: 185210 | M11: 230087 | N11: 222571 | O11: 211908 | P11: 238024 | Q11: 271166 | R11: 242112 | S11: 206382 | T11: 171984 | U11: 191617 | V11: 132654 | W11: 95584 | Y11: 緬甸 | Z11: =AB11+AD11 -> 167.901 | AA11: =(Z11/Z26-1)*100 -> -21.031244 | AB11: =W11/1000 -> 95.584 | AC11: =(AB11/AB26-1)*100 -> -27.944879 | AD11: =W26/1000 -> 72.317 | AE11: =(AD11/AD26-1)*100 -> -9.5619224 | AF11: =AB11-AD11 -> 23.267 | AG11: =IF((AF11*AF26)>0,(AF11/AF26-1)*100,"–") -> -55.842554 | AJ11: 緬甸/ 出口 | AK11: 171984 | AL11: 191617
C12: 汶萊 / 出口 | D12: 18206 | E12: 13713 | F12: 16586 | G12: 27611 | H12: 30163 | I12: 25595 | J12: 37781 | K12: 33596 | L12: 30982 | M12: 25529 | N12: 23852 | O12: 13652 | P12: 11922 | Q12: 12816 | R12: 11877 | S12: 57639 | T12: 24337 | U12: 28946 | V12: 12732 | W12: 14430 | Y12: 汶萊 | Z12: =AB12+AD12 -> 353.817 | AA12: =(Z12/Z27-1)*100 -> 21.648886 | AB12: =W12/1000 -> 14.43 | AC12: =(AB12/AB27-1)*100 -> 13.336475 | AD12: =W27/1000 -> 339.387 | AE12: =(AD12/AD27-1)*100 -> 22.029419 | AF12: =AB12-AD12 -> -324.957 | AG12: =IF((AF12*AF27)>0,(AF12/AF27-1)*100,"–") -> 22.446465 | AJ12: 汶萊/ 出口 | AK12: 24337 | AL12: 28946
C13: 寮國 / 出口 | D13: 2131 | E13: 2651 | F13: 1832 | G13: 2953 | H13: 3230 | I13: 3922 | J13: 2235 | K13: 3173 | L13: 3821 | M13: 3683 | N13: 3290 | O13: 3866 | P13: 6740 | Q13: 5926 | R13: 10112 | S13: 6005 | T13: 8622 | U13: 5988 | V13: 6320 | W13: 37247 | Y13: 寮國 | Z13: =AB13+AD13 -> 63.775 | AA13: =(Z13/Z28-1)*100 -> 158.98477 | AB13: =W13/1000 -> 37.247 | AC13: =(AB13/AB28-1)*100 -> 489.35127 | AD13: =W28/1000 -> 26.528 | AE13: =(AD13/AD28-1)*100 -> 44.922152 | AF13: =AB13-AD13 -> 10.719 | AG13: =IF((AF13*AF28)>0,(AF13/AF28-1)*100,"–") -> – | AJ13: 寮國/ 出口 | AK13: 8622 | AL13: 5988
T14: 70241749 | U14: 80609434 | V14: =SUM(V4:V13) -> 76274869 | W14: =SUM(W4:W13) -> 87734804
AI16: 產生時間:112/10/20 08:43:02 | AJ16: 洲別／國別貿易值
A17: 進口 | Y17: =V3 -> 112年
D18: 94年 | E18: 95年 | F18: 96年 | G18: 97年 | H18: 98年 | I18: 99年 | J18: 100年 | K18: 101年 | L18: 102年 | M18: 103年 | N18: 104年 | O18: 105年 | P18: 106年 | Q18: 107年 | R18: 108年 | S18: 109年 | T18: 110年 | U18: 111年 | V18: 112年 | W18: 113年 | Y18: 算年增率用 | Z18: 117306.29 | AA18: -12.813829 | AB18: 76274.869 | AC18: -5.3772428 | AD18: 41031.416 | AE18: -23.927793 | AF18: 35243.453 | AG18: 32.13665 | AK18: 110年 | AL18: 111年
B19: 按美元計算(千美元) | C19: 新加坡 / 進口 | D19: 4982202 | E19: 5119205 | F19: 4777702 | G19: 4860039 | H19: 4814185 | I19: 7675032 | J19: 8022298 | K19: 8171787 | L19: 8605822 | M19: 8435272 | N19: 7170552 | O19: 7526000 | P19: 8711443 | Q19: 8416360 | R19: 7922364 | S19: 8989117 | T19: 12073253 | U19: 12525520 | V19: 9524282 | W19: 9699961 | Z19: 39262.595 | AA19: -6.6247457 | AB19: 29738.313 | AC19: 0.73046602 | AD19: 9524.282 | AE19: -23.960985 | AF19: 20214.031 | AG19: 18.926072 | AI19: 按美元計算(千美元) | AJ19: 新加坡/ 進口 | AK19: 12073253 | AL19: 12525520
C20: 馬來西亞 / 進口 | D20: 5257569 | E20: 6118187 | F20: 6321242 | G20: 6916704 | H20: 4700786 | I20: 7861085 | J20: 8792879 | K20: 7980532 | L20: 8254795 | M20: 8952644 | N20: 6733747 | O20: 6288797 | P20: 7178476 | Q20: 9304519 | R20: 10365562 | S20: 9889400 | T20: 11798642 | U20: 13549161 | V20: 9688207 | W20: 14610610 | Z20: 24854.048 | AA20: -18.67893 | AB20: 15165.841 | AC20: -10.861022 | AD20: 9688.207 | AE20: -28.49589 | AF20: 5477.634 | AG20: 58.105574 | AJ20: 馬來西亞/ 進口 | AK20: 11798642 | AL20: 13549161
C21: 印尼 / 進口 | D21: 4565267 | E21: 5245054 | F21: 5801663 | G21: 7313478 | H21: 5197563 | I21: 6055275 | J21: 7452648 | K21: 7350191 | L21: 7173389 | M21: 7398468 | N21: 5961973 | O21: 4311256 | P21: 4880588 | Q21: 5486763 | R21: 4681096 | S21: 4507631 | T21: 7909457 | U21: 11211753 | V21: 7388708 | W21: 7688708 | Z21: 10398.672 | AA21: -27.919563 | AB21: 3009.964 | AC21: -6.3696174 | AD21: 7388.708 | AE21: -34.098548 | AF21: -4378.744 | AG21: -45.245324 | AJ21: 印尼/ 進口 | AK21: 7909457 | AL21: 11211753
C22: 越南 / 進口 | D22: 692028 | E22: 850036 | F22: 1041230 | G22: 1199198 | H22: 914587 | I22: 1277123 | J22: 1867194 | K22: 2302968 | L22: 2696409 | M22: 2584372 | N22: 2543697 | O22: 2746446 | P22: 3120021 | Q22: 3697691 | R22: 5281778 | S22: 5496903 | T22: 6146516 | U22: 6985458 | V22: 6157384 | W22: 7936437 | Z22: 17882.641 | AA22: -17.055153 | AB22: 11725.257 | AC22: -19.547957 | AD22: 6157.384 | AE22: -11.854255 | AF22: 5567.873 | AG22: -26.630012 | AJ22: 越南/ 進口 | AK22: 6146516 | AL22: 6985458
C23: 泰國 / 進口 | D23: 2916451 | E23: 3354831 | F23: 3629547 | G23: 3262261 | H23: 2701140 | I23: 3840014 | J23: 4404640 | K23: 3708830 | L23: 3793413 | M23: 4407970 | N23: 4042623 | O23: 3817594 | P23: 4357407 | Q23: 4581401 | R23: 4253398 | S23: 4543670 | T23: 5961364 | U23: 6291303 | V23: 5381291 | W23: 6233010 | Z23: 16239.918 | AA23: 17.333454 | AB23: 10858.627 | AC23: 43.83198 | AD23: 5381.291 | AE23: -14.464603 | AF23: 5477.336 | AG23: 335.32453 | AJ23: 泰國/ 進口 | AK23: 5961364 | AL23: 6291303
C24: 菲律賓 / 進口 | D24: 2825500 | E24: 2814530 | F24: 2287587 | G24: 2252346 | H24: 1603137 | I24: 2331566 | J24: 2406915 | K24: 2172069 | L24: 2320922 | M24: 2295464 | N24: 2094615 | O24: 2203982 | P24: 2378258 | Q24: 2493341 | R24: 2114208 | S24: 2125028 | T24: 2997760 | U24: 3080700 | V24: 2347634 | W24: 2462413 | Z24: 7409.849 | AA24: -30.881169 | AB24: 5062.215 | AC24: -33.738464 | AD24: 2347.634 | AE24: -23.795436 | AF24: 2714.581 | AG24: -40.457297 | AJ24: 菲律賓/ 進口 | AK24: 2997760 | AL24: 3080700
C25: 柬埔寨 / 進口 | D25: 4862 | E25: 6301 | F25: 7763 | G25: 8658 | H25: 11395 | I25: 20302 | J25: 33071 | K25: 45867 | L25: 38680 | M25: 48335 | N25: 67538 | O25: 77871 | P25: 77510 | Q25: 94213 | R25: 106978 | S25: 118017 | T25: 118922 | U25: 162611 | V25: 167523 | W25: 173480 | Z25: 730.469 | AA25: -29.14335 | AB25: 562.946 | AC25: -35.166878 | AD25: 167.523 | AE25: 3.0207059 | AF25: 395.423 | AG25: -43.966393 | AJ25: 柬埔寨/ 進口 | AK25: 118922 | AL25: 162611
C26: 緬甸 / 進口 | D26: 51664 | E26: 48861 | F26: 61002 | G26: 69005 | H26: 54984 | I26: 63385 | J26: 74277 | K26: 76701 | L26: 101581 | M26: 104430 | N26: 53518 | O26: 69692 | P26: 57127 | Q26: 71282 | R26: 70455 | S26: 62948 | T26: 62507 | U26: 93222 | V26: 79963 | W26: 72317 | Z26: 212.617 | AA26: -25.355376 | AB26: 132.654 | AC26: -30.771278 | AD26: 79.963 | AE26: -14.223037 | AF26: 52.691 | AG26: -46.449515 | AJ26: 緬甸/ 進口 | AK26: 62507 | AL26: 93222
C27: 汶萊 / 進口 | D27: 32 | E27: 2098 | F27: 181 | G27: 385 | H27: 277 | I27: 10669 | J27: 40682 | K27: 37286 | L27: 61242 | M27: 462241 | N27: 348694 | O27: 120368 | P27: 223453 | Q27: 388456 | R27: 156433 | S27: 156010 | T27: 148774 | U27: 22096 | V27: 278119 | W27: 339387 | Z27: 290.851 | AA27: 469.82681 | AB27: 12.732 | AC27: -56.014648 | AD27: 278.119 | AE27: 1158.6848 | AF27: -265.387 | AG27: – | AJ27: 汶萊/ 進口 | AK27: 148774 | AL27: 22096
C28: 寮國 / 進口 | D28: 9103 | E28: 39583 | F28: 25090 | G28: 17065 | H28: 5963 | I28: 7005 | J28: 11283 | K28: 7858 | L28: 13142 | M28: 15842 | N28: 14178 | O28: 17189 | P28: 15562 | Q28: 14620 | R28: 13084 | S28: 12414 | T28: 15644 | U28: 15636 | V28: 18305 | W28: 26528 | Z28: 24.625 | AA28: 13.878098 | AB28: 6.32 | AC28: 5.5444222 | AD28: 18.305 | AE28: 17.069583 | AF28: -11.985 | AG28: 24.222637 | AJ28: 寮國/ 進口 | AK28: 15644 | AL28: 15636
U29: 53937460 | V29: =SUM(V19:V28) -> 41031416 | W29: =SUM(W19:W28) -> 49242851
